BEGIN:VCALENDAR
PRODID:-//eluceo/ical//2.0/EN
VERSION:2.0
CALSCALE:GREGORIAN
BEGIN:VEVENT
UID:a9a361edad827f4650527f00d48e773a
DTSTAMP:20260420T011957Z
SUMMARY:Bokcirkel
DESCRIPTION:
URL:https://vanersborg-aurora.rotaryklubb.org/en/agenda/show/217745
DTSTART;TZID=Europe/Zurich:20260420T180000
DTEND;TZID=Europe/Zurich:20260420T200000
LOCATION:Hos Ann Larsson\, Vallgatan 32 Vänersborg
CATEGORIES:Rotary
END:VEVENT
BEGIN:VTIMEZONE
TZID:Europe/Zurich
BEGIN:DAYLIGHT
DTSTART:20260420T180000
TZNAME:CEST
TZOFFSETTO:+0200
TZOFFSETFROM:+0200
END:DAYLIGHT
END:VTIMEZONE
END:VCALENDAR
