BEGIN:VCALENDAR
PRODID:-//eluceo/ical//2.0/EN
VERSION:2.0
CALSCALE:GREGORIAN
BEGIN:VEVENT
UID:25a99533cb65664852d98b46d17c8bfe
DTSTAMP:20260424T084639Z
SUMMARY:Skeppsfrukost
DESCRIPTION:Speaker(s): Dick Netterlid
URL:https://vanersborg-aurora.rotaryklubb.org/en/agenda/show/216099
DTSTART;TZID=Europe/Zurich:20260605T070000
DTEND;TZID=Europe/Zurich:20260605T081500
LOCATION:Bris femöre af Wenersborg
CATEGORIES:Rotary
END:VEVENT
BEGIN:VTIMEZONE
TZID:Europe/Zurich
BEGIN:DAYLIGHT
DTSTART:20260605T070000
TZNAME:CEST
TZOFFSETTO:+0200
TZOFFSETFROM:+0200
END:DAYLIGHT
END:VTIMEZONE
END:VCALENDAR
